BEGIN:VCALENDAR
VERSION:2.0
PRODID:-// Wienerberger //  // DE
BEGIN:VEVENT
CREATED:20260414T083745
UID:uuid:e6e7e197-edc3-2eb3-77c0-554a6ff55cdc
DTSTAMP:20260507T100000
DTSTART:20260507T100000
DTEND:20260507T150000
SUMMARY:157. o. Hauptversammlung
END:VEVENT
END:VCALENDAR
