BEGIN:VCALENDAR
VERSION:2.0
PRODID:-// Wienerberger //  // EN
BEGIN:VEVENT
CREATED:20260423T101016
UID:uuid:c9081531-f2c3-2c49-71aa-1db2d71da7fb
DTSTAMP:20260512T000000
DTSTART:20260512T000000
DTEND:20260513T000000
SUMMARY:Ex-day 2025 dividend
END:VEVENT
END:VCALENDAR
